BEGIN:VCALENDAR
VERSION:2.0
PRODID:-//Читалище Мечталище - ECPv6.11.2//NONSGML v1.0//EN
CALSCALE:GREGORIAN
METHOD:PUBLISH
X-ORIGINAL-URL:https://mechtalishte.com
X-WR-CALDESC:Събития за Читалище Мечталище
REFRESH-INTERVAL;VALUE=DURATION:PT1H
X-Robots-Tag:noindex
X-PUBLISHED-TTL:PT1H
BEGIN:VTIMEZONE
TZID:Europe/Helsinki
BEGIN:DAYLIGHT
TZOFFSETFROM:+0200
TZOFFSETTO:+0300
TZNAME:EEST
DTSTART:20250330T010000
END:DAYLIGHT
BEGIN:STANDARD
TZOFFSETFROM:+0300
TZOFFSETTO:+0200
TZNAME:EET
DTSTART:20251026T010000
END:STANDARD
END:VTIMEZONE
BEGIN:VEVENT
DTSTART;TZID=Europe/Helsinki:20250501T080000
DTEND;TZID=Europe/Helsinki:20251031T170000
DTSTAMP:20260423T140358
CREATED:20250501T084339Z
LAST-MODIFIED:20250508T081859Z
UID:447-1746086400-1761930000@mechtalishte.com
SUMMARY:Oнлайн кампания „Променящият се Лозенец в образи и думи: пътувания в миналото на квартала“. Включи се!
DESCRIPTION:Включете се в нашата нова кампания за събиране и запазване на снимки и истории от миналото на квартал Лозенец! \nС нашата онлайн кампания „Променящият се Лозенец в образи и думи: пътувания в миналото на квартала“ искаме да съберем\, съхраним и предадем на следващите поколения спомените за променящи се и изчезващи места\, личности и случки от миналото на квартала\, който претърпява огромни промени през последните десетилетия. \nИмате ли интересни снимки от Лозенец от времето преди 2000-та година? Имате ли история\, свързана с Лозенец\, която бихте желали да споделите със своите съкварталци? \nАко желаете да участвате\, изпращайте вашите сканирани снимки и разкази на имейла на читалището: team@mechtalishte.com . Ако имате нужда от помощ със сканирането на снимките или желаете да дарите оригиналната снимка\, пишете на същия имейл да се уговорим как да ви съдействаме. \n \nС подбрани снимки и истории ще направим изложба\, която ще може да бъде разгледана в помещението на читалището в края на 2025 година. Всички истории и снимки ще бъдат запазени в библиотеката на читалището за бъдещите поколения\, които биха се интересували от темата. \nКампанията започва на 1 май 2025 г. и ще продължи до края на октомври 2025 г. Ще очакваме вашите интересни стари снимки и истории скоро\, не чакайте до крайния срок. \nПопитайте и разкажете на съседите си\, които също биха желали да се включат. \nВключете се в сглобяването на този интересен пъзел\, който да запази паметта за променящия се Лозенец!
URL:https://mechtalishte.com/event/o%d0%bd%d0%bb%d0%b0%d0%b9%d0%bd-%d0%ba%d0%b0%d0%bc%d0%bf%d0%b0%d0%bd%d0%b8%d1%8f-%d0%bf%d1%80%d0%be%d0%bc%d0%b5%d0%bd%d1%8f%d1%89%d0%b8%d1%8f%d1%82-%d1%81%d0%b5-%d0%bb%d0%be%d0%b7%d0%b5%d0%bd/
ATTACH;FMTTYPE=image/png:https://mechtalishte.com/wp-content/uploads/2025/05/M_lozenetz_event.png
END:VEVENT
BEGIN:VEVENT
DTSTART;TZID=Europe/Helsinki:20250429T190000
DTEND;TZID=Europe/Helsinki:20250429T213000
DTSTAMP:20260423T140358
CREATED:20250425T094703Z
LAST-MODIFIED:20250508T081813Z
UID:430-1745953200-1745962200@mechtalishte.com
SUMMARY:Киноклуб "Глътка кино"
DESCRIPTION:Киноклуб “Глътка кино”\n29 април 2025 (вторник) от 19:00 до 21:30ч.\nКаним те на уютна кино вечер\, за да гледаме заедно тематично подбрани филми или филмови откъси\, а след това да си поговорим за тях – свободно и вдъхновено.\nОчаквай подходящо сгряващо питие\, интересни гледни точки и нови хора\, с които да споделиш емоцията от киното. Защото киното не е само истории на екрана – то е и огледало на нашите собствени преживявания\, въпроси и мечти.\nЩе си говорим не само за кино\, а и за живота – такъв\, какъвто е : с емоции\, избори\, смисъл и малки чудеса.\nТова ще е първата от няколкото пилотни срещи\, които от есента планираме да обединим в кино-курс\, с продължителност 2 месеца\, предвиждащ 8 срещи\, един път седмично.\nСрещите ще включват прожекции на цели филми или филмови откъси\, които показват как предварително определена тема е интерпретирана от различни автори. Ще си говорим за история на киното\, видове кино\, начин на снимане и как то като изкуство отразява социалните проблеми на съвремието ни.\nВодещ е Петя Славова – кинокритик\, завършила Кинознание в НАТФИЗ „Кръстьо Сарафов“\, с множество публикации за кино и социални теми в различни медии. Работила е като културен редактор. Била е част от екипа на няколко филмови фестивали.\nВход свободен\, ако ти е харесало\, можеш да подкрепиш читалището с дарение на изхода.
URL:https://mechtalishte.com/event/%d0%ba%d0%b8%d0%bd%d0%be%d0%ba%d0%bb%d1%83%d0%b1-%d0%b3%d0%bb%d1%8a%d1%82%d0%ba%d0%b0-%d0%ba%d0%b8%d0%bd%d0%be/
ATTACH;FMTTYPE=image/jpeg:https://mechtalishte.com/wp-content/uploads/2025/04/4_N.jpg
END:VEVENT
BEGIN:VEVENT
DTSTART;TZID=Europe/Helsinki:20250427T110000
DTEND;TZID=Europe/Helsinki:20250427T130000
DTSTAMP:20260423T140358
CREATED:20250423T092353Z
LAST-MODIFIED:20250423T092353Z
UID:418-1745751600-1745758800@mechtalishte.com
SUMMARY:Четене по пантофи
DESCRIPTION:За малките любители на литературата и приказните светове идва едно споделено пътуване в безкрайния космос на въображението.\nИскаме децата да заобичат книжките\, да харесат богатството на езика и да постигнат така важното за тях емоционално\, речево и социално развитие. Няма по-добър начин за това от четенето на глас\, при това на интересни истории\, по увлекателен начин и в компанията на други малки любопитковци\, с които да споделят емоциите си.\nКаним ви на едно споделено четене на истории за слушане с широко отворени очи! \nСъбитието е отворено за всички родители и деца. Тъй като читалище “Мечталище” се издържа основно от дарения\, това събитие ще бъде на принципа на вход-дарение. \nFacebook: https://fb.me/e/4K47NqsOl
URL:https://mechtalishte.com/event/%d1%87%d0%b5%d1%82%d0%b5%d0%bd%d0%b5-%d0%bf%d0%be-%d0%bf%d0%b0%d0%bd%d1%82%d0%be%d1%84%d0%b8/
LOCATION:Мечталище\, ул. "Трепетлика" 12\, София\, 1407\, Bulgaria
ATTACH;FMTTYPE=image/jpeg:https://mechtalishte.com/wp-content/uploads/2025/04/chetene_po_pantofi_event.jpg
END:VEVENT
BEGIN:VEVENT
DTSTART;TZID=Europe/Helsinki:20250426T160000
DTEND;TZID=Europe/Helsinki:20250426T173000
DTSTAMP:20260423T140358
CREATED:20250425T093952Z
LAST-MODIFIED:20250508T081744Z
UID:422-1745683200-1745688600@mechtalishte.com
SUMMARY:Цветовете между мен и теб
DESCRIPTION:Мечталище има удоволствието да ви покани на семейна работилница „Цветовете между мен и теб“ на 26-ти април (събота) от 16:00 часа.КреАРТория – творческа лаборатория и Арт Кутия представят Семейна работилница по изкуство и общуване за деца над 4 години и техните родители: „Цветовете между мен и теб“. Когато творим заедно\, изграждаме връзка\, която остава завинаги. Каним ви на вълшебни семейни срещи\, където чрез изкуство\, движение и въображение ще се потопите в света на съвместното творчество. В уютна\, безопасна и подкрепяща среда\, деца и родители ще творят заедно\, ще общуват без думи\, ще се смеят\, ще се прегръщат и ще се опознават по нов начин.Какво ви очаква:· Арт занимания\, подходящи за деца над 4 години и техните родители· Работа с различни материали: рисуване\, моделиране\, колаж\, телесни отпечатъци· Игри с движение и съпреживяване· Всяко занимание е пътешествие към по-топла и здрава връзка между родител и детеБез значение дали можете да рисувате – важно е да сте заедно!Събитието е с ограничени места и с предварителна регистрация. Ако искате да запазите място за себе си и своето дете\, можете да се регистрирате тук: https://forms.gle/A5hjyr2CETywp4Jx6.Събитието е с продължителност 90 минути\, от 16:00 до 17:30 часа.Цената на входа за един родител с едно дете е 45 лв\, а на един родител с две деца е 60 лв. За повече от две деца\, се договаря допълнителна отстъпка.Водещ е Теофана Манева. Теофана е творец\, педагог и мечтател\, чийто път минава през света на театъра\, образованието\, арт терапията и психологията на детето. Тя е създател на „КреАРТория“ – творческа лаборатория за деца\, и вдъхновител на проекти\, насочени към свободно изразяване\, въображение и свързване чрез изкуство. Нейната мечтата е да подкрепя децата и семействата не само в техния творчески процес\, но и в по-дълбокото разбиране на техните вътрешни светове и нужди.
URL:https://mechtalishte.com/event/%d1%86%d0%b2%d0%b5%d1%82%d0%be%d0%b2%d0%b5%d1%82%d0%b5-%d0%bc%d0%b5%d0%b6%d0%b4%d1%83-%d0%bc%d0%b5%d0%bd-%d0%b8-%d1%82%d0%b5%d0%b1/
ATTACH;FMTTYPE=image/png:https://mechtalishte.com/wp-content/uploads/2025/04/940x788_colors.png
END:VEVENT
END:VCALENDAR