BEGIN:VCALENDAR
VERSION:2.0
PRODID:-//Читалище Мечталище - ECPv6.11.2//NONSGML v1.0//EN
CALSCALE:GREGORIAN
METHOD:PUBLISH
X-WR-CALNAME:Читалище Мечталище
X-ORIGINAL-URL:https://mechtalishte.com
X-WR-CALDESC:Събития за Читалище Мечталище
REFRESH-INTERVAL;VALUE=DURATION:PT1H
X-Robots-Tag:noindex
X-PUBLISHED-TTL:PT1H
BEGIN:VTIMEZONE
TZID:Europe/Helsinki
BEGIN:DAYLIGHT
TZOFFSETFROM:+0200
TZOFFSETTO:+0300
TZNAME:EEST
DTSTART:20250330T010000
END:DAYLIGHT
BEGIN:STANDARD
TZOFFSETFROM:+0300
TZOFFSETTO:+0200
TZNAME:EET
DTSTART:20251026T010000
END:STANDARD
END:VTIMEZONE
BEGIN:VEVENT
DTSTART;TZID=Europe/Helsinki:20250610T190000
DTEND;TZID=Europe/Helsinki:20250610T213000
DTSTAMP:20260421T174107
CREATED:20250529T104809Z
LAST-MODIFIED:20250606T155659Z
UID:567-1749582000-1749591000@mechtalishte.com
SUMMARY:Конгрес по футурология: разговор за бъдещето
DESCRIPTION: Конгрес по футурология: панелна дискусия за близкото бъдеще на България и Европа през перспективата на историята\, културологията\, екологията и високите технологии.\n Участници:♦︎ проф. Веселин Методиев (НБУ)\, историк\, съавтор на “Българските конституции и конституционни проекти”;♦︎ доц. Георги Лозанов (СУ)\, културолог;♦︎ Емил Джасим\, историк;♦︎ д-р Тома Белев\, еколог\, лесовъд и експерт по опазване на природата;♦︎ Мартин Кадинов (гудгейм)\, IT-специалист\, професионален геймър; Модератор: Манол Глишев (OFFNews)\, журналист\nБъдещето отдавна започна! Дори в България (някои) вече живеем в него. Изкуственият интелект пише текстовете ни (но не и този)\, дронове водят войните ни\, климатичните промени изглеждат факт\, парите ни вече не са банкноти и монети\, а абстрактни цифри в облачната памет на банките\, а проблемите на нашата сигурност включват доскоро непознатите заплахи за личната ни информация в интернет. Сленгът създава своя реалност\, писмеността се връща към корените си\, тоест към дигитализация на древноегипетските йероглифи\, защото все по-често ползваме емоджита и смайлита вместо препинателни знаци\, а понякога – и вместо думи \nТиктака ли часовникът за окончателното самоунищожение на homo sapiens? Предстои ли пореден Залез на боговете? Как и кога стигнахме дотук? Ще разбираме ли света от 2035 година? А този от 2045? Ще бъдат ли нашите деца киборги? Как се татуира Левски на прасеца на чатбот? Трябваше ли да поканим ChatGPT на тази дискусия и да му задаваме въпросите си като на Делфийския оракул? Патриотично ли е да си геймър? От какъв джендър е спайуерът\, който следи телефоните ни? Какво ще стане с напоследък така шумно рекламираните консервативни ценности в света на сякаш приятелски настроения Скайнет и на предсказания още от Станислав Лем „Конгрес по футурология“?\n Нека чуем перспективата на историк\, културолог\, еколог и специалист по високи технологии\, модерирани от журналист.\n Събитието ще се излъчва на живо на страницата на Мечталище.\n10 юни |  19:00 |  Мечталище\, ул. “Трепетлика” 12 Вход: свободен
URL:https://mechtalishte.com/event/%d0%ba%d0%be%d0%bd%d0%b3%d1%80%d0%b5%d1%81-%d0%bf%d0%be-%d1%84%d1%83%d1%82%d1%83%d1%80%d0%be%d0%bb%d0%be%d0%b3%d0%b8%d1%8f-%d1%80%d0%b0%d0%b7%d0%b3%d0%be%d0%b2%d0%be%d1%80-%d0%b7%d0%b0-%d0%b1%d1%8a/
ATTACH;FMTTYPE=image/png:https://mechtalishte.com/wp-content/uploads/2025/06/M_futorologia_event.png
END:VEVENT
END:VCALENDAR